BEGIN:VCALENDAR
VERSION:2.0
PRODID:-//Pfrontner Liste - ECPv6.15.15//NONSGML v1.0//EN
CALSCALE:GREGORIAN
METHOD:PUBLISH
X-WR-CALNAME:Pfrontner Liste
X-ORIGINAL-URL:http://www.pfrontner-liste.de
X-WR-CALDESC:Veranstaltungen für Pfrontner Liste
REFRESH-INTERVAL;VALUE=DURATION:PT1H
X-Robots-Tag:noindex
X-PUBLISHED-TTL:PT1H
BEGIN:VTIMEZONE
TZID:Europe/Berlin
BEGIN:DAYLIGHT
TZOFFSETFROM:+0100
TZOFFSETTO:+0200
TZNAME:CEST
DTSTART:20230326T010000
END:DAYLIGHT
BEGIN:STANDARD
TZOFFSETFROM:+0200
TZOFFSETTO:+0100
TZNAME:CET
DTSTART:20231029T010000
END:STANDARD
BEGIN:DAYLIGHT
TZOFFSETFROM:+0100
TZOFFSETTO:+0200
TZNAME:CEST
DTSTART:20240331T010000
END:DAYLIGHT
BEGIN:STANDARD
TZOFFSETFROM:+0200
TZOFFSETTO:+0100
TZNAME:CET
DTSTART:20241027T010000
END:STANDARD
BEGIN:DAYLIGHT
TZOFFSETFROM:+0100
TZOFFSETTO:+0200
TZNAME:CEST
DTSTART:20250330T010000
END:DAYLIGHT
BEGIN:STANDARD
TZOFFSETFROM:+0200
TZOFFSETTO:+0100
TZNAME:CET
DTSTART:20251026T010000
END:STANDARD
END:VTIMEZONE
BEGIN:VEVENT
DTSTART;TZID=Europe/Berlin:20241009T180000
DTEND;TZID=Europe/Berlin:20241009T203000
DTSTAMP:20260419T144712
CREATED:20241016T200834Z
LAST-MODIFIED:20241016T201358Z
UID:4090-1728496800-1728505800@www.pfrontner-liste.de
SUMMARY:Betriebsbesichtigung Elektrizitätswerk Reutte (EWR)
DESCRIPTION:Liebe Mitglieder der Pfrontner Liste\, \nder Herbst ist im Pfrontner Tal eingezogen – Zeit  für die Pfrontner Liste sich wieder einmal zu treffen. Diesmal dürfen wir zu Gast beim Elektrizitätswerk Reutte (EWR) sein. \nZunächst werden wir dort das örtliche Umspannwerk besichtigen und im Anschluss zu einem Vortrag/gemütlichem Beisammensein in die Betriebsstelle Pfronten (Krankenhausstr. 3) fahren. Wir bekommen bei der Veranstaltung Einblick in die Arbeit des regionalen Stromerzeugers\, die Zusammenarbeit mit der Gemeinde Pfronten und aktuelle Themen wie Energieeffizienz\, Stromeinsparung\, Stromeinspeisung etc. werden auch bestimmt zur Sprache kommen.
URL:http://www.pfrontner-liste.de/termin/betriebsbesichtigung-elektrizitaetswerk-reutte-ewr/
LOCATION:Bayern
END:VEVENT
END:VCALENDAR